BEGIN:VCALENDAR
VERSION:2.0
PRODID:-//IP.Board Calendar 4.7.5//EN
METHOD:PUBLISH
CALSCALE:GREGORIAN
BEGIN:VTIMEZONE
TZID:Europe/London
TZURL:http://tzurl.org/zoneinfo/Europe/London
X-LIC-LOCATION:Europe/London
BEGIN:DAYLIGHT
TZOFFSETFROM:+0000
TZOFFSETTO:+0100
TZNAME:BST
DTSTART:20160327T020000Z
RRULE:FREQ=YEARLY;BYMONTH=3;BYDAY=-1SU
END:DAYLIGHT
BEGIN:STANDARD
TZOFFSETFROM:+0100
TZOFFSETTO:+0000
TZNAME:GMT
DTSTART:20161030T020000Z
RRULE:FREQ=YEARLY;BYMONTH=10;BYDAY=-1SU
END:STANDARD
END:VTIMEZONE
BEGIN:VTIMEZONE
TZID:Europe/London
TZURL:http://tzurl.org/zoneinfo/Europe/London
X-LIC-LOCATION:Europe/London
BEGIN:DAYLIGHT
TZOFFSETFROM:+0000
TZOFFSETTO:+0100
TZNAME:BST
DTSTART:20150329T020000Z
RRULE:FREQ=YEARLY;BYMONTH=3;BYDAY=-1SU
END:DAYLIGHT
BEGIN:STANDARD
TZOFFSETFROM:+0100
TZOFFSETTO:+0000
TZNAME:GMT
DTSTART:20151025T020000Z
RRULE:FREQ=YEARLY;BYMONTH=10;BYDAY=-1SU
END:STANDARD
END:VTIMEZONE
BEGIN:VTIMEZONE
TZID:Europe/London
TZURL:http://tzurl.org/zoneinfo/Europe/London
X-LIC-LOCATION:Europe/London
BEGIN:DAYLIGHT
TZOFFSETFROM:+0000
TZOFFSETTO:+0100
TZNAME:BST
DTSTART:20140330T020000Z
RRULE:FREQ=YEARLY;BYMONTH=3;BYDAY=-1SU
END:DAYLIGHT
BEGIN:STANDARD
TZOFFSETFROM:+0100
TZOFFSETTO:+0000
TZNAME:GMT
DTSTART:20141026T020000Z
RRULE:FREQ=YEARLY;BYMONTH=10;BYDAY=-1SU
END:STANDARD
END:VTIMEZONE
BEGIN:VEVENT
SUMMARY:Smite Conquest @ DSN Stream ab 19.00 Uhr
DTSTAMP:20160229T011157Z
SEQUENCE:1
UID:275-2-da4cbbcf76b31b749189abf7f44a4ad7@darksociety.network
ORGANIZER;CN="WannaBurn":noreply@darksociety.network
DESCRIPTION:Sektionsmitglieder sind zum mitzocken willkommen (nabs prefe
	red &lt\;3)
DTSTART;VALUE=DATE:20160229
END:VEVENT
BEGIN:VEVENT
SUMMARY:TS Besprechung 19:30 Beitritt zu Gummizelle?
DTSTAMP:20151028T144149Z
SEQUENCE:2
UID:271-2-da4cbbcf76b31b749189abf7f44a4ad7@darksociety.network
ORGANIZER;CN="Leuchte":noreply@darksociety.network
DESCRIPTION:Infos
DTSTART;VALUE=DATE:20151102
ATTENDEE;CN="Leuchte";CUTYPE=INDIVIDUAL;PARTSTAT=ACCEPTED:no
	reply@darksociety.network
ATTENDEE;CN="TødespiløT";CUTYPE=INDIVIDUAL;PARTSTAT=ACCEPT
	ED:noreply@darksociety.network
END:VEVENT
BEGIN:VEVENT
SUMMARY:Tempel 2 18:00 Uhr
DTSTAMP:20151022T183056Z
SEQUENCE:0
UID:268-2-da4cbbcf76b31b749189abf7f44a4ad7@darksociety.network
ORGANIZER;CN="Leuchte":noreply@darksociety.network
DESCRIPTION:Temel 2
DTSTART;VALUE=DATE:20151025
ATTENDEE;CN="TødespiløT";CUTYPE=INDIVIDUAL;PARTSTAT=ACCEPT
	ED:noreply@darksociety.network
ATTENDEE;CN="Armenius";CUTYPE=INDIVIDUAL;PARTSTAT=ACCEPTED:n
	oreply@darksociety.network
END:VEVENT
BEGIN:VEVENT
SUMMARY:Tempel 2 anomale Zone 20 Uhr
DTSTAMP:20151021T134656Z
SEQUENCE:0
UID:267-2-da4cbbcf76b31b749189abf7f44a4ad7@darksociety.network
ORGANIZER;CN="Leuchte":noreply@darksociety.network
DESCRIPTION:\nBeginn 20 Uhr\nTodespilot (Marcus) übernimmt Organisation
	\n
DTSTART;VALUE=DATE:20151022
ATTENDEE;CN="TødespiløT";CUTYPE=INDIVIDUAL;PARTSTAT=ACCEPT
	ED:noreply@darksociety.network
ATTENDEE;CN="Armenius";CUTYPE=INDIVIDUAL;PARTSTAT=ACCEPTED:n
	oreply@darksociety.network
END:VEVENT
BEGIN:VEVENT
SUMMARY:Ilir Hügel anomale Zone 20 Uhr
DTSTAMP:20151021T133803Z
SEQUENCE:0
UID:266-2-da4cbbcf76b31b749189abf7f44a4ad7@darksociety.network
ORGANIZER;CN="Leuchte":noreply@darksociety.network
DESCRIPTION:Ilir Hügel Begin 20 Uhr
DTSTART;VALUE=DATE:20151023
ATTENDEE;CN="Leuchte";CUTYPE=INDIVIDUAL;PARTSTAT=ACCEPTED:no
	reply@darksociety.network
ATTENDEE;CN="Gefijon";CUTYPE=INDIVIDUAL;PARTSTAT=ACCEPTED:no
	reply@darksociety.network
ATTENDEE;CN="Avistyn";CUTYPE=INDIVIDUAL;PARTSTAT=ACCEPTED:no
	reply@darksociety.network
END:VEVENT
BEGIN:VEVENT
SUMMARY:Wochenplanung anomale Zonen
DTSTAMP:20151020T150541Z
SEQUENCE:1
UID:265-2-da4cbbcf76b31b749189abf7f44a4ad7@darksociety.network
ORGANIZER;CN="Leuchte":noreply@darksociety.network
DESCRIPTION:\nBitte Angeben welche Anomale Zone euch fehlt damit wir ein
	en Überblick bekommen.\nDie Termine werden dann am Donnerstag Abend erste
	llt.\n \nBitte in Kommentar folgende Infos : Anomale Zone - mögliche Rol
	len - Termin\nBsp.:\nIlir Hügel - DD - Mo-Fr 17-22 Uhr\, Sa+So 14-22 Uhr\
	n
DTSTART;VALUE=DATE:20151021
ATTENDEE;CN="Leuchte";CUTYPE=INDIVIDUAL;PARTSTAT=ACCEPTED:no
	reply@darksociety.network
ATTENDEE;CN="Michi";CUTYPE=INDIVIDUAL;PARTSTAT=ACCEPTED:nore
	ply@darksociety.network
END:VEVENT
BEGIN:VEVENT
SUMMARY:Anomale Zonen: Tempel 2
DTSTAMP:20151010T185947Z
SEQUENCE:2
UID:262-2-da4cbbcf76b31b749189abf7f44a4ad7@darksociety.network
ORGANIZER;CN="Gefijon":noreply@darksociety.network
DESCRIPTION:\nVerschoben wegen technischer Probleme\n \nStart: 20h\nDau
	er: ca 3h\nTaktisches Gespühr: 500\n
DTSTART:20151017T190000Z
ATTENDEE;CN="Gefijon";CUTYPE=INDIVIDUAL;PARTSTAT=ACCEPTED:no
	reply@darksociety.network
ATTENDEE;CN="Avistyn";CUTYPE=INDIVIDUAL;PARTSTAT=ACCEPTED:no
	reply@darksociety.network
ATTENDEE;CN="Leuchte";CUTYPE=INDIVIDUAL;PARTSTAT=ACCEPTED:no
	reply@darksociety.network
ATTENDEE;CN="rick.dangerous";CUTYPE=INDIVIDUAL;PARTSTAT=ACCE
	PTED:noreply@darksociety.network
ATTENDEE;CN="Ellie";CUTYPE=INDIVIDUAL;PARTSTAT=ACCEPTED:nore
	ply@darksociety.network
END:VEVENT
BEGIN:VEVENT
SUMMARY:Anomale Zonen: Tempel 1
DTSTAMP:20151013T154522Z
SEQUENCE:2
UID:263-2-da4cbbcf76b31b749189abf7f44a4ad7@darksociety.network
ORGANIZER;CN="Gefijon":noreply@darksociety.network
DESCRIPTION:\nStart: 19h\nTaktisches Gespür: 300\nDauer: ca 3h\n \nErs
	atzprogramm: Isabella Skalliert\n
DTSTART:20151015T190000Z
ATTENDEE;CN="Leuchte";CUTYPE=INDIVIDUAL;PARTSTAT=ACCEPTED:no
	reply@darksociety.network
END:VEVENT
BEGIN:VEVENT
SUMMARY:Anomale Zonen: Sandbank
DTSTAMP:20151010T145722Z
SEQUENCE:0
UID:261-2-da4cbbcf76b31b749189abf7f44a4ad7@darksociety.network
ORGANIZER;CN="Gefijon":noreply@darksociety.network
DESCRIPTION:\nStart: 19h\nTaktisches Gespür: 200\nDauer: ca 3h\n
DTSTART:20151013T140000Z
ATTENDEE;CN="Michi";CUTYPE=INDIVIDUAL;PARTSTAT=ACCEPTED:nore
	ply@darksociety.network
END:VEVENT
BEGIN:VEVENT
SUMMARY:Anomale Zonen: Orua
DTSTAMP:20151010T145201Z
SEQUENCE:0
UID:260-2-da4cbbcf76b31b749189abf7f44a4ad7@darksociety.network
ORGANIZER;CN="Gefijon":noreply@darksociety.network
DESCRIPTION:\nStart: 19h\nDauer: bis zu 3h\nTaktisches Gespür empfohlen
	: 400\n
DTSTART:20151014T180000Z
ATTENDEE;CN="TødespiløT";CUTYPE=INDIVIDUAL;PARTSTAT=ACCEPT
	ED:noreply@darksociety.network
ATTENDEE;CN="Armenius";CUTYPE=INDIVIDUAL;PARTSTAT=ACCEPTED:n
	oreply@darksociety.network
END:VEVENT
BEGIN:VEVENT
SUMMARY:Isabella Angriff
DTSTAMP:20151008T232507Z
SEQUENCE:0
UID:259-2-da4cbbcf76b31b749189abf7f44a4ad7@darksociety.network
ORGANIZER;CN="Gefijon":noreply@darksociety.network
DESCRIPTION:\nStart: 19h\n \nEine paar kleine Farmrunden\, 3 oder 4 run
	s\, um an taktisches Gespür und Ringe zu kommen\n
DTSTART:20151009T180000Z
ATTENDEE;CN="Gefijon";CUTYPE=INDIVIDUAL;PARTSTAT=ACCEPTED:no
	reply@darksociety.network
ATTENDEE;CN="Ellie";CUTYPE=INDIVIDUAL;PARTSTAT=ACCEPTED:nore
	ply@darksociety.network
ATTENDEE;CN="TødespiløT";CUTYPE=INDIVIDUAL;PARTSTAT=ACCEPT
	ED:noreply@darksociety.network
END:VEVENT
BEGIN:VEVENT
SUMMARY:Anomale Zonen: Orua
DTSTAMP:20151006T102609Z
SEQUENCE:2
UID:258-2-da4cbbcf76b31b749189abf7f44a4ad7@darksociety.network
ORGANIZER;CN="Gefijon":noreply@darksociety.network
DESCRIPTION:\nStart: 19h\nDauer: bis zu 3h\nTaktisches Gespür empfohlen
	: 400\n
DTSTART:20151010T180000Z
ATTENDEE;CN="Gefijon";CUTYPE=INDIVIDUAL;PARTSTAT=ACCEPTED:no
	reply@darksociety.network
ATTENDEE;CN="Leuchte";CUTYPE=INDIVIDUAL;PARTSTAT=ACCEPTED:no
	reply@darksociety.network
ATTENDEE;CN="rick.dangerous";CUTYPE=INDIVIDUAL;PARTSTAT=ACCE
	PTED:noreply@darksociety.network
ATTENDEE;CN="Avistyn";CUTYPE=INDIVIDUAL;PARTSTAT=ACCEPTED:no
	reply@darksociety.network
ATTENDEE;CN="Ellie";CUTYPE=INDIVIDUAL;PARTSTAT=ACCEPTED:nore
	ply@darksociety.network
END:VEVENT
BEGIN:VEVENT
SUMMARY:Anomale Zonen: Tempel 1
DTSTAMP:20151006T102013Z
SEQUENCE:2
UID:257-2-da4cbbcf76b31b749189abf7f44a4ad7@darksociety.network
ORGANIZER;CN="Gefijon":noreply@darksociety.network
DESCRIPTION:\nStart: 19h\nDauer: bis zu 3h\nTaktisches Gespür empfohlen
	: 300\n
DTSTART:20151008T180000Z
ATTENDEE;CN="TødespiløT";CUTYPE=INDIVIDUAL;PARTSTAT=ACCEPT
	ED:noreply@darksociety.network
ATTENDEE;CN="Armenius";CUTYPE=INDIVIDUAL;PARTSTAT=ACCEPTED:n
	oreply@darksociety.network
ATTENDEE;CN="Xerador";CUTYPE=INDIVIDUAL;PARTSTAT=ACCEPTED:no
	reply@darksociety.network
ATTENDEE;CN="Avistyn";CUTYPE=INDIVIDUAL;PARTSTAT=ACCEPTED:no
	reply@darksociety.network
END:VEVENT
BEGIN:VEVENT
SUMMARY:Hel Ra
DTSTAMP:20140919T164234Z
SEQUENCE:1
UID:228-2-da4cbbcf76b31b749189abf7f44a4ad7@darksociety.network
ORGANIZER;CN="Seppel":noreply@darksociety.network
DESCRIPTION:\nHallo Leute\,\n \naufgrund dessen dass wir noch nicht all
	e V14 sind ist mein Vorschlag der\, ein paar Hel Ra Runs zu machen.\nIch d
	enke da gibt es genug Exp für uns. Wenn wir dann alle auf V14 sind werden
	 wir den neuen Raid Content beschreiten.\n
DTSTART:20140921T180000Z
ATTENDEE;CN="Seppel";CUTYPE=INDIVIDUAL;PARTSTAT=ACCEPTED:nor
	eply@darksociety.network
ATTENDEE;CN="LordEgel";CUTYPE=INDIVIDUAL;PARTSTAT=ACCEPTED:n
	oreply@darksociety.network
ATTENDEE;CN="Stonerock";CUTYPE=INDIVIDUAL;PARTSTAT=ACCEPTED:
	noreply@darksociety.network
ATTENDEE;CN="sufferas der Richtige";CUTYPE=INDIVIDUAL;PARTST
	AT=ACCEPTED:noreply@darksociety.network
ATTENDEE;CN="Zalkini";CUTYPE=INDIVIDUAL;PARTSTAT=ACCEPTED:no
	reply@darksociety.network
ATTENDEE;CN="Saubeutel";CUTYPE=INDIVIDUAL;PARTSTAT=ACCEPTED:
	noreply@darksociety.network
ATTENDEE;CN="Ragnar Lotbrok";CUTYPE=INDIVIDUAL;PARTSTAT=ACCE
	PTED:noreply@darksociety.network
END:VEVENT
BEGIN:VEVENT
SUMMARY:Raid Hel Ra clear run \;)
DTSTAMP:20140912T072358Z
SEQUENCE:0
UID:219-2-da4cbbcf76b31b749189abf7f44a4ad7@darksociety.network
ORGANIZER;CN="Seppel":noreply@darksociety.network
DESCRIPTION:Wie immer!
DTSTART:20140914T180000Z
ATTENDEE;CN="Seppel";CUTYPE=INDIVIDUAL;PARTSTAT=ACCEPTED:nor
	eply@darksociety.network
ATTENDEE;CN="sufferas der Richtige";CUTYPE=INDIVIDUAL;PARTST
	AT=ACCEPTED:noreply@darksociety.network
ATTENDEE;CN="Zalkini";CUTYPE=INDIVIDUAL;PARTSTAT=ACCEPTED:no
	reply@darksociety.network
ATTENDEE;CN="Adhira";CUTYPE=INDIVIDUAL;PARTSTAT=ACCEPTED:nor
	eply@darksociety.network
ATTENDEE;CN="LordEgel";CUTYPE=INDIVIDUAL;PARTSTAT=ACCEPTED:n
	oreply@darksociety.network
ATTENDEE;CN="Ragnar Lotbrok";CUTYPE=INDIVIDUAL;PARTSTAT=ACCE
	PTED:noreply@darksociety.network
END:VEVENT
BEGIN:VEVENT
SUMMARY:Raid AA/HelRa
DTSTAMP:20140909T214055Z
SEQUENCE:2
UID:218-2-da4cbbcf76b31b749189abf7f44a4ad7@darksociety.network
ORGANIZER;CN="Zalkini":noreply@darksociety.network
DESCRIPTION:\nWie immer da anmelden und dann schauen wir mal.\n \n \nR
	aidleitung macht Boomer\,der 4800 dps Mann in unserer Gilde \n \nStart 19
	h\n
DTSTART;VALUE=DATE:20140911
ATTENDEE;CN="Zalkini";CUTYPE=INDIVIDUAL;PARTSTAT=ACCEPTED:no
	reply@darksociety.network
ATTENDEE;CN="sufferas der Richtige";CUTYPE=INDIVIDUAL;PARTST
	AT=ACCEPTED:noreply@darksociety.network
ATTENDEE;CN="Ragnar Lotbrok";CUTYPE=INDIVIDUAL;PARTSTAT=ACCE
	PTED:noreply@darksociety.network
ATTENDEE;CN="Adhira";CUTYPE=INDIVIDUAL;PARTSTAT=ACCEPTED:nor
	eply@darksociety.network
END:VEVENT
BEGIN:VEVENT
SUMMARY:RAIDDAY
DTSTAMP:20140907T214849Z
SEQUENCE:0
UID:216-2-da4cbbcf76b31b749189abf7f44a4ad7@darksociety.network
ORGANIZER;CN="Seppel":noreply@darksociety.network
DESCRIPTION:Anmelden Jungs und Mädchen!
DTSTART:20140909T183000Z
ATTENDEE;CN="Seppel";CUTYPE=INDIVIDUAL;PARTSTAT=ACCEPTED:nor
	eply@darksociety.network
ATTENDEE;CN="LordEgel";CUTYPE=INDIVIDUAL;PARTSTAT=ACCEPTED:n
	oreply@darksociety.network
ATTENDEE;CN="Zalkini";CUTYPE=INDIVIDUAL;PARTSTAT=ACCEPTED:no
	reply@darksociety.network
ATTENDEE;CN="sufferas der Richtige";CUTYPE=INDIVIDUAL;PARTST
	AT=ACCEPTED:noreply@darksociety.network
ATTENDEE;CN="Adhira";CUTYPE=INDIVIDUAL;PARTSTAT=ACCEPTED:nor
	eply@darksociety.network
ATTENDEE;CN="Ragnar Lotbrok";CUTYPE=INDIVIDUAL;PARTSTAT=ACCE
	PTED:noreply@darksociety.network
END:VEVENT
BEGIN:VEVENT
SUMMARY:Raid Tag
DTSTAMP:20140904T144704Z
SEQUENCE:0
UID:214-2-da4cbbcf76b31b749189abf7f44a4ad7@darksociety.network
ORGANIZER;CN="Seppel":noreply@darksociety.network
DESCRIPTION:Wie immer
DTSTART:20140907T180000Z
ATTENDEE;CN="Seppel";CUTYPE=INDIVIDUAL;PARTSTAT=ACCEPTED:nor
	eply@darksociety.network
ATTENDEE;CN="LordEgel";CUTYPE=INDIVIDUAL;PARTSTAT=ACCEPTED:n
	oreply@darksociety.network
ATTENDEE;CN="Zalkini";CUTYPE=INDIVIDUAL;PARTSTAT=ACCEPTED:no
	reply@darksociety.network
ATTENDEE;CN="Adhira";CUTYPE=INDIVIDUAL;PARTSTAT=ACCEPTED:nor
	eply@darksociety.network
ATTENDEE;CN="sufferas der Richtige";CUTYPE=INDIVIDUAL;PARTST
	AT=ACCEPTED:noreply@darksociety.network
END:VEVENT
BEGIN:VEVENT
SUMMARY:Angel Event
DTSTAMP:20140901T061125Z
SEQUENCE:0
UID:212-2-da4cbbcf76b31b749189abf7f44a4ad7@darksociety.network
ORGANIZER;CN="Seppel":noreply@darksociety.network
DESCRIPTION:\nHallo Leute\,\n \nwie schon so oft erwähnt wollen wir he
	ute unser lang ersehntes Angelevent starten!\nSchnappt euch eure Angel ein
	e Falsche Bier und ein paar Köder und dann kann der Spaß beginnen.\nSoll
	tet ihr nicht genügend Köder besitzen so stellen wir euch diese.\n
DTSTART:20140903T180000Z
END:VEVENT
BEGIN:VEVENT
SUMMARY:Raid HR/AA
DTSTAMP:20140831T204745Z
SEQUENCE:0
UID:211-2-da4cbbcf76b31b749189abf7f44a4ad7@darksociety.network
ORGANIZER;CN="Seppel":noreply@darksociety.network
DESCRIPTION:Bedingungen wie immer!
DTSTART:20140902T180000Z
ATTENDEE;CN="Seppel";CUTYPE=INDIVIDUAL;PARTSTAT=ACCEPTED:nor
	eply@darksociety.network
ATTENDEE;CN="sufferas der Richtige";CUTYPE=INDIVIDUAL;PARTST
	AT=ACCEPTED:noreply@darksociety.network
ATTENDEE;CN="Zalkini";CUTYPE=INDIVIDUAL;PARTSTAT=ACCEPTED:no
	reply@darksociety.network
ATTENDEE;CN="LordEgel";CUTYPE=INDIVIDUAL;PARTSTAT=ACCEPTED:n
	oreply@darksociety.network
END:VEVENT
BEGIN:VEVENT
SUMMARY:Raid HR/AA
DTSTAMP:20140831T204238Z
SEQUENCE:0
UID:209-2-da4cbbcf76b31b749189abf7f44a4ad7@darksociety.network
ORGANIZER;CN="Seppel":noreply@darksociety.network
DESCRIPTION:Bedingungen wie immer!
DTSTART:20140831T180000Z
ATTENDEE;CN="Seppel";CUTYPE=INDIVIDUAL;PARTSTAT=ACCEPTED:nor
	eply@darksociety.network
END:VEVENT
BEGIN:VEVENT
SUMMARY:Raid HR/AA
DTSTAMP:20140827T105650Z
SEQUENCE:0
UID:205-2-da4cbbcf76b31b749189abf7f44a4ad7@darksociety.network
ORGANIZER;CN="Seppel":noreply@darksociety.network
DESCRIPTION:\nHallo Leute!\n \nIch bitte euch wie immer um zahlreiche A
	nmeldung mit Klasse und Profession!\n
DTSTART:20140831T180000Z
ATTENDEE;CN="LordEgel";CUTYPE=INDIVIDUAL;PARTSTAT=ACCEPTED:n
	oreply@darksociety.network
ATTENDEE;CN="sufferas der Richtige";CUTYPE=INDIVIDUAL;PARTST
	AT=ACCEPTED:noreply@darksociety.network
ATTENDEE;CN="Zalkini";CUTYPE=INDIVIDUAL;PARTSTAT=ACCEPTED:no
	reply@darksociety.network
ATTENDEE;CN="Seppel";CUTYPE=INDIVIDUAL;PARTSTAT=ACCEPTED:nor
	eply@darksociety.network
END:VEVENT
BEGIN:VEVENT
SUMMARY:Raid HRC
DTSTAMP:20140820T170422Z
SEQUENCE:0
UID:204-2-da4cbbcf76b31b749189abf7f44a4ad7@darksociety.network
ORGANIZER;CN="Seppel":noreply@darksociety.network
DESCRIPTION:Wollen HRC Raiden also bitte zahlriech anmelden
DTSTART:20140822T190000Z
ATTENDEE;CN="Zalkini";CUTYPE=INDIVIDUAL;PARTSTAT=ACCEPTED:no
	reply@darksociety.network
ATTENDEE;CN="LordEgel";CUTYPE=INDIVIDUAL;PARTSTAT=ACCEPTED:n
	oreply@darksociety.network
ATTENDEE;CN="Adhira";CUTYPE=INDIVIDUAL;PARTSTAT=ACCEPTED:nor
	eply@darksociety.network
ATTENDEE;CN="Seppel";CUTYPE=INDIVIDUAL;PARTSTAT=ACCEPTED:nor
	eply@darksociety.network
END:VEVENT
BEGIN:VEVENT
SUMMARY:TESO AA Trainings Raid
DTSTAMP:20140816T230157Z
SEQUENCE:1
UID:202-2-da4cbbcf76b31b749189abf7f44a4ad7@darksociety.network
ORGANIZER;CN="LordEgel":noreply@darksociety.network
DESCRIPTION:\nHallo wir schaun mal das wir unsere v12 beschäftigen mitg
	ehn kann jeder ab V1 !!!\n \nlg\negel\n
DTSTART:20140817T190000Z
ATTENDEE;CN="LordEgel";CUTYPE=INDIVIDUAL;PARTSTAT=ACCEPTED:n
	oreply@darksociety.network
ATTENDEE;CN="Adhira";CUTYPE=INDIVIDUAL;PARTSTAT=ACCEPTED:nor
	eply@darksociety.network
ATTENDEE;CN="Zalkini";CUTYPE=INDIVIDUAL;PARTSTAT=ACCEPTED:no
	reply@darksociety.network
END:VEVENT
BEGIN:VEVENT
SUMMARY:PVE Raid AA
DTSTAMP:20140812T130400Z
SEQUENCE:0
UID:200-2-da4cbbcf76b31b749189abf7f44a4ad7@darksociety.network
ORGANIZER;CN="Seppel":noreply@darksociety.network
DESCRIPTION:\nIch würde gerne auf diesem Wege für Freitag einen Gilden
	internen AA Raid Planen.\nAlso bitte meldet euch zahlreich mit Klasse und 
	Spezialisierung an.\nÜber zahlreiches erscheinen würde ich mich freuen.\
	n
DTSTART:20140814T193000Z
END:VEVENT
BEGIN:VEVENT
SUMMARY:ESO PvE Raid
DTSTAMP:20140629T174125Z
SEQUENCE:0
UID:189-2-da4cbbcf76b31b749189abf7f44a4ad7@darksociety.network
ORGANIZER;CN="Lyssin":noreply@darksociety.network
DESCRIPTION:\nInvite 19:15\nRaidbeginn 19:30\nBitte die  Raidregeln beac
	hten !\n
DTSTART:20140703T181500Z
END:VEVENT
BEGIN:VEVENT
SUMMARY:ESO PvE Raid
DTSTAMP:20140629T173823Z
SEQUENCE:2
UID:188-2-da4cbbcf76b31b749189abf7f44a4ad7@darksociety.network
ORGANIZER;CN="Lyssin":noreply@darksociety.network
DESCRIPTION:\nInvite 19:15\nRaidbeginn 19:30\nBitte die Raidregeln beach
	ten !\n
DTSTART:20140701T183000Z
ATTENDEE;CN="Vycas";CUTYPE=INDIVIDUAL;PARTSTAT=ACCEPTED:nore
	ply@darksociety.network
ATTENDEE;CN="Latonia";CUTYPE=INDIVIDUAL;PARTSTAT=ACCEPTED:no
	reply@darksociety.network
END:VEVENT
BEGIN:VEVENT
SUMMARY:TESO PvE Raid
DTSTAMP:20140622T122536Z
SEQUENCE:0
UID:187-2-da4cbbcf76b31b749189abf7f44a4ad7@darksociety.network
ORGANIZER;CN="Latonia":noreply@darksociety.network
DESCRIPTION:\nInvite 18:45\nRaidbeginn 19:00\nBitte die neuen Raidregeln
	 beachten !\n
DTSTART:20140629T120000Z
ATTENDEE;CN="Latonia";CUTYPE=INDIVIDUAL;PARTSTAT=ACCEPTED:no
	reply@darksociety.network
ATTENDEE;CN="LordEgel";CUTYPE=INDIVIDUAL;PARTSTAT=ACCEPTED:n
	oreply@darksociety.network
END:VEVENT
BEGIN:VEVENT
SUMMARY:TESO PvE Raid
DTSTAMP:20140622T122448Z
SEQUENCE:0
UID:186-2-da4cbbcf76b31b749189abf7f44a4ad7@darksociety.network
ORGANIZER;CN="Latonia":noreply@darksociety.network
DESCRIPTION:\nInvite 19:45\nRaidbeginn 20:00\nBitte die neuen Raidregeln
	 beachten !\n
DTSTART:20140626T190000Z
ATTENDEE;CN="Latonia";CUTYPE=INDIVIDUAL;PARTSTAT=ACCEPTED:no
	reply@darksociety.network
ATTENDEE;CN="Vycas";CUTYPE=INDIVIDUAL;PARTSTAT=ACCEPTED:nore
	ply@darksociety.network
ATTENDEE;CN="Taroth";CUTYPE=INDIVIDUAL;PARTSTAT=ACCEPTED:nor
	eply@darksociety.network
ATTENDEE;CN="Syora";CUTYPE=INDIVIDUAL;PARTSTAT=ACCEPTED:nore
	ply@darksociety.network
ATTENDEE;CN="Lyssin";CUTYPE=INDIVIDUAL;PARTSTAT=ACCEPTED:nor
	eply@darksociety.network
ATTENDEE;CN="LordEgel";CUTYPE=INDIVIDUAL;PARTSTAT=ACCEPTED:n
	oreply@darksociety.network
ATTENDEE;CN="Adhira";CUTYPE=INDIVIDUAL;PARTSTAT=ACCEPTED:nor
	eply@darksociety.network
END:VEVENT
BEGIN:VEVENT
SUMMARY:TESO PvE Raid
DTSTAMP:20140622T122357Z
SEQUENCE:0
UID:185-2-da4cbbcf76b31b749189abf7f44a4ad7@darksociety.network
ORGANIZER;CN="Latonia":noreply@darksociety.network
DESCRIPTION:\nInvite 19:45\nRaidbeginn 20:00\nBitte die neuen Raidregeln
	 beachten !\n
DTSTART:20140624T190000Z
ATTENDEE;CN="Latonia";CUTYPE=INDIVIDUAL;PARTSTAT=ACCEPTED:no
	reply@darksociety.network
ATTENDEE;CN="Vycas";CUTYPE=INDIVIDUAL;PARTSTAT=ACCEPTED:nore
	ply@darksociety.network
ATTENDEE;CN="Taroth";CUTYPE=INDIVIDUAL;PARTSTAT=ACCEPTED:nor
	eply@darksociety.network
ATTENDEE;CN="Syora";CUTYPE=INDIVIDUAL;PARTSTAT=ACCEPTED:nore
	ply@darksociety.network
ATTENDEE;CN="Ivy";CUTYPE=INDIVIDUAL;PARTSTAT=ACCEPTED:norepl
	y@darksociety.network
END:VEVENT
BEGIN:VEVENT
SUMMARY:TESO PvE Raid
DTSTAMP:20140621T125501Z
SEQUENCE:0
UID:184-2-da4cbbcf76b31b749189abf7f44a4ad7@darksociety.network
ORGANIZER;CN="Latonia":noreply@darksociety.network
DESCRIPTION:\nInvite 18:45\nRaidbeginn 19:00\nBitte die neuen Raidregeln
	 beachten !\n
DTSTART:20140622T180000Z
ATTENDEE;CN="Latonia";CUTYPE=INDIVIDUAL;PARTSTAT=ACCEPTED:no
	reply@darksociety.network
ATTENDEE;CN="Syora";CUTYPE=INDIVIDUAL;PARTSTAT=ACCEPTED:nore
	ply@darksociety.network
ATTENDEE;CN="Vycas";CUTYPE=INDIVIDUAL;PARTSTAT=ACCEPTED:nore
	ply@darksociety.network
ATTENDEE;CN="Adhira";CUTYPE=INDIVIDUAL;PARTSTAT=ACCEPTED:nor
	eply@darksociety.network
ATTENDEE;CN="Ivy";CUTYPE=INDIVIDUAL;PARTSTAT=ACCEPTED:norepl
	y@darksociety.network
END:VEVENT
BEGIN:VEVENT
SUMMARY:TESO PvE Raid
DTSTAMP:20140615T194825Z
SEQUENCE:2
UID:182-2-da4cbbcf76b31b749189abf7f44a4ad7@darksociety.network
ORGANIZER;CN="Latonia":noreply@darksociety.network
DESCRIPTION:\nInvite 19:45\nRaidbeginn 20:00\nBitte die neuen Raidregeln
	 beachten !\n
DTSTART;VALUE=DATE:20140618
ATTENDEE;CN="Latonia";CUTYPE=INDIVIDUAL;PARTSTAT=ACCEPTED:no
	reply@darksociety.network
ATTENDEE;CN="TheMaker";CUTYPE=INDIVIDUAL;PARTSTAT=ACCEPTED:n
	oreply@darksociety.network
ATTENDEE;CN="Vycas";CUTYPE=INDIVIDUAL;PARTSTAT=ACCEPTED:nore
	ply@darksociety.network
ATTENDEE;CN="Syora";CUTYPE=INDIVIDUAL;PARTSTAT=ACCEPTED:nore
	ply@darksociety.network
ATTENDEE;CN="LordEgel";CUTYPE=INDIVIDUAL;PARTSTAT=ACCEPTED:n
	oreply@darksociety.network
ATTENDEE;CN="Adhira";CUTYPE=INDIVIDUAL;PARTSTAT=ACCEPTED:nor
	eply@darksociety.network
END:VEVENT
BEGIN:VEVENT
SUMMARY:TESO PvE Raid
DTSTAMP:20140610T231339Z
SEQUENCE:0
UID:181-2-da4cbbcf76b31b749189abf7f44a4ad7@darksociety.network
ORGANIZER;CN="Lyssin":noreply@darksociety.network
DESCRIPTION:\nInvite 19:45\nRaidbeginn 20:00\n
DTSTART:20140614T184500Z
ATTENDEE;CN="Lyssin";CUTYPE=INDIVIDUAL;PARTSTAT=ACCEPTED:nor
	eply@darksociety.network
ATTENDEE;CN="Latonia";CUTYPE=INDIVIDUAL;PARTSTAT=ACCEPTED:no
	reply@darksociety.network
ATTENDEE;CN="LordEgel";CUTYPE=INDIVIDUAL;PARTSTAT=ACCEPTED:n
	oreply@darksociety.network
ATTENDEE;CN="Syora";CUTYPE=INDIVIDUAL;PARTSTAT=ACCEPTED:nore
	ply@darksociety.network
ATTENDEE;CN="TheMaker";CUTYPE=INDIVIDUAL;PARTSTAT=ACCEPTED:n
	oreply@darksociety.network
ATTENDEE;CN="Ivy";CUTYPE=INDIVIDUAL;PARTSTAT=ACCEPTED:norepl
	y@darksociety.network
ATTENDEE;CN="Adhira";CUTYPE=INDIVIDUAL;PARTSTAT=ACCEPTED:nor
	eply@darksociety.network
END:VEVENT
BEGIN:VEVENT
SUMMARY:TESO PvE Raid
DTSTAMP:20140610T231144Z
SEQUENCE:1
UID:180-2-da4cbbcf76b31b749189abf7f44a4ad7@darksociety.network
ORGANIZER;CN="Lyssin":noreply@darksociety.network
DESCRIPTION:\nInvite 19:45\nRaidbeginn 20:00\n
DTSTART:20140612T184500Z
ATTENDEE;CN="Lyssin";CUTYPE=INDIVIDUAL;PARTSTAT=ACCEPTED:nor
	eply@darksociety.network
ATTENDEE;CN="TheMaker";CUTYPE=INDIVIDUAL;PARTSTAT=ACCEPTED:n
	oreply@darksociety.network
ATTENDEE;CN="Vycas";CUTYPE=INDIVIDUAL;PARTSTAT=ACCEPTED:nore
	ply@darksociety.network
ATTENDEE;CN="Latonia";CUTYPE=INDIVIDUAL;PARTSTAT=ACCEPTED:no
	reply@darksociety.network
ATTENDEE;CN="Taroth";CUTYPE=INDIVIDUAL;PARTSTAT=ACCEPTED:nor
	eply@darksociety.network
ATTENDEE;CN="Adhira";CUTYPE=INDIVIDUAL;PARTSTAT=ACCEPTED:nor
	eply@darksociety.network
ATTENDEE;CN="LordEgel";CUTYPE=INDIVIDUAL;PARTSTAT=ACCEPTED:n
	oreply@darksociety.network
ATTENDEE;CN="Syora";CUTYPE=INDIVIDUAL;PARTSTAT=ACCEPTED:nore
	ply@darksociety.network
ATTENDEE;CN="Ivy";CUTYPE=INDIVIDUAL;PARTSTAT=ACCEPTED:norepl
	y@darksociety.network
END:VEVENT
BEGIN:VEVENT
SUMMARY:ESO PvE Raid
DTSTAMP:20140607T232705Z
SEQUENCE:1
UID:179-2-da4cbbcf76b31b749189abf7f44a4ad7@darksociety.network
ORGANIZER;CN="Lyssin":noreply@darksociety.network
DESCRIPTION:Raidbeginn 20:00
DTSTART:20140610T190000Z
ATTENDEE;CN="Lyssin";CUTYPE=INDIVIDUAL;PARTSTAT=ACCEPTED:nor
	eply@darksociety.network
ATTENDEE;CN="Latonia";CUTYPE=INDIVIDUAL;PARTSTAT=ACCEPTED:no
	reply@darksociety.network
ATTENDEE;CN="Vycas";CUTYPE=INDIVIDUAL;PARTSTAT=ACCEPTED:nore
	ply@darksociety.network
ATTENDEE;CN="Syora";CUTYPE=INDIVIDUAL;PARTSTAT=ACCEPTED:nore
	ply@darksociety.network
ATTENDEE;CN="TheMaker";CUTYPE=INDIVIDUAL;PARTSTAT=ACCEPTED:n
	oreply@darksociety.network
ATTENDEE;CN="Ivy";CUTYPE=INDIVIDUAL;PARTSTAT=ACCEPTED:norepl
	y@darksociety.network
ATTENDEE;CN="Adhira";CUTYPE=INDIVIDUAL;PARTSTAT=ACCEPTED:nor
	eply@darksociety.network
ATTENDEE;CN="Ceka";CUTYPE=INDIVIDUAL;PARTSTAT=ACCEPTED:norep
	ly@darksociety.network
END:VEVENT
BEGIN:VEVENT
SUMMARY:TESO PvE Raid
DTSTAMP:20140528T234704Z
SEQUENCE:2
UID:178-2-da4cbbcf76b31b749189abf7f44a4ad7@darksociety.network
ORGANIZER;CN="Lyssin":noreply@darksociety.network
DESCRIPTION:\nFals zu viele Anmeldungen vorhanden sind\, werden Diejenig
	en berücksichtigt die sich zuerst angemeldet haben!\n \nBitte schreibt a
	ls Kommenter hin:\n \nKlasse:\nRolle:\n
DTSTART:20140607T180000Z
ATTENDEE;CN="Lyssin";CUTYPE=INDIVIDUAL;PARTSTAT=ACCEPTED:nor
	eply@darksociety.network
ATTENDEE;CN="TheMaker";CUTYPE=INDIVIDUAL;PARTSTAT=ACCEPTED:n
	oreply@darksociety.network
ATTENDEE;CN="Latonia";CUTYPE=INDIVIDUAL;PARTSTAT=ACCEPTED:no
	reply@darksociety.network
ATTENDEE;CN="Adhira";CUTYPE=INDIVIDUAL;PARTSTAT=ACCEPTED:nor
	eply@darksociety.network
ATTENDEE;CN="Siraya";CUTYPE=INDIVIDUAL;PARTSTAT=ACCEPTED:nor
	eply@darksociety.network
ATTENDEE;CN="Vycas";CUTYPE=INDIVIDUAL;PARTSTAT=ACCEPTED:nore
	ply@darksociety.network
ATTENDEE;CN="Syora";CUTYPE=INDIVIDUAL;PARTSTAT=ACCEPTED:nore
	ply@darksociety.network
ATTENDEE;CN="Ivy";CUTYPE=INDIVIDUAL;PARTSTAT=ACCEPTED:norepl
	y@darksociety.network
ATTENDEE;CN="Cales";CUTYPE=INDIVIDUAL;PARTSTAT=ACCEPTED:nore
	ply@darksociety.network
ATTENDEE;CN="Taroth";CUTYPE=INDIVIDUAL;PARTSTAT=ACCEPTED:nor
	eply@darksociety.network
END:VEVENT
BEGIN:VEVENT
SUMMARY:ESO Veteranen Instanz Run
DTSTAMP:20140514T203652Z
SEQUENCE:1
UID:170-2-da4cbbcf76b31b749189abf7f44a4ad7@darksociety.network
ORGANIZER;CN="TheMaker":noreply@darksociety.network
DESCRIPTION:\nESO Veteranen Instanz Run. Start 20:00 Uhr.\n \nPro Grupp
	e können 4 Leute mitkommen. Wenn mehr Leute für ein Event angemeldet wer
	den wird es entweder eine zweite Gruppe geben oder bei zwei Runs an einem 
	Abend eine Spieler Rotation.\n
DTSTART;VALUE=DATE:20140529
ATTENDEE;CN="TheMaker";CUTYPE=INDIVIDUAL;PARTSTAT=ACCEPTED:n
	oreply@darksociety.network
ATTENDEE;CN="Siraya";CUTYPE=INDIVIDUAL;PARTSTAT=ACCEPTED:nor
	eply@darksociety.network
END:VEVENT
BEGIN:VEVENT
SUMMARY:ESO Veteranen Instanz Run
DTSTAMP:20140514T203559Z
SEQUENCE:0
UID:169-2-da4cbbcf76b31b749189abf7f44a4ad7@darksociety.network
ORGANIZER;CN="TheMaker":noreply@darksociety.network
DESCRIPTION:\nESO Veteranen Instanz Run. Start 20:00 Uhr.\n \nPro Grupp
	e können 4 Leute mitkommen. Wenn mehr Leute für ein Event angemeldet wer
	den wird es entweder eine zweite Gruppe geben oder bei zwei Runs an einem 
	Abend eine Spieler Rotation.\n
DTSTART;VALUE=DATE:20140524
ATTENDEE;CN="TheMaker";CUTYPE=INDIVIDUAL;PARTSTAT=ACCEPTED:n
	oreply@darksociety.network
ATTENDEE;CN="Vycas";CUTYPE=INDIVIDUAL;PARTSTAT=ACCEPTED:nore
	ply@darksociety.network
ATTENDEE;CN="LordEgel";CUTYPE=INDIVIDUAL;PARTSTAT=ACCEPTED:n
	oreply@darksociety.network
ATTENDEE;CN="Adhira";CUTYPE=INDIVIDUAL;PARTSTAT=ACCEPTED:nor
	eply@darksociety.network
END:VEVENT
BEGIN:VEVENT
SUMMARY:ESO Veteranen Instanz Run
DTSTAMP:20140514T203024Z
SEQUENCE:2
UID:167-2-da4cbbcf76b31b749189abf7f44a4ad7@darksociety.network
ORGANIZER;CN="TheMaker":noreply@darksociety.network
DESCRIPTION:\nESO Veteranen Instanz Run. Start 20:00 Uhr.\n \nPro Grupp
	e können 4 Leute mitkommen. Wenn mehr Leute für ein Event angemeldet wer
	den wird es entweder eine zweite Gruppe geben oder bei zwei Runs an einem 
	Abend eine Spieler Rotation.\n
DTSTART;VALUE=DATE:20140517
ATTENDEE;CN="TheMaker";CUTYPE=INDIVIDUAL;PARTSTAT=ACCEPTED:n
	oreply@darksociety.network
ATTENDEE;CN="Vycas";CUTYPE=INDIVIDUAL;PARTSTAT=ACCEPTED:nore
	ply@darksociety.network
ATTENDEE;CN="Latonia";CUTYPE=INDIVIDUAL;PARTSTAT=ACCEPTED:no
	reply@darksociety.network
ATTENDEE;CN="Lyssin";CUTYPE=INDIVIDUAL;PARTSTAT=ACCEPTED:nor
	eply@darksociety.network
END:VEVENT
BEGIN:VEVENT
SUMMARY:ESO Veteranen Instanz Run
DTSTAMP:20140514T203142Z
SEQUENCE:2
UID:168-2-da4cbbcf76b31b749189abf7f44a4ad7@darksociety.network
ORGANIZER;CN="TheMaker":noreply@darksociety.network
DESCRIPTION:\nESO Veteranen Instanz Run. Start 20:00 Uhr.\n \nPro Grupp
	e können 4 Leute mitkommen. Wenn mehr Leute für ein Event angemeldet wer
	den wird es entweder eine zweite Gruppe geben oder bei zwei Runs an einem 
	Abend eine Spieler Rotation.\n
DTSTART;VALUE=DATE:20140520
ATTENDEE;CN="TheMaker";CUTYPE=INDIVIDUAL;PARTSTAT=ACCEPTED:n
	oreply@darksociety.network
ATTENDEE;CN="Vycas";CUTYPE=INDIVIDUAL;PARTSTAT=ACCEPTED:nore
	ply@darksociety.network
END:VEVENT
BEGIN:VEVENT
SUMMARY:ESO AVA Event
DTSTAMP:20140427T183916Z
SEQUENCE:2
UID:163-2-da4cbbcf76b31b749189abf7f44a4ad7@darksociety.network
ORGANIZER;CN="Steve":noreply@darksociety.network
DESCRIPTION:\nTreffen um 19:30 Uhr im TeamSpeak und in Cyrodiil.\n \nN
	ähere Infos findet ihr hier\n \nGruß\n \n- Steve -\n
DTSTART:20140503T190000Z
ATTENDEE;CN="Steve";CUTYPE=INDIVIDUAL;PARTSTAT=ACCEPTED:nore
	ply@darksociety.network
ATTENDEE;CN="Teppichfussel";CUTYPE=INDIVIDUAL;PARTSTAT=ACCEP
	TED:noreply@darksociety.network
ATTENDEE;CN="Latonia";CUTYPE=INDIVIDUAL;PARTSTAT=ACCEPTED:no
	reply@darksociety.network
ATTENDEE;CN="Adhira";CUTYPE=INDIVIDUAL;PARTSTAT=ACCEPTED:nor
	eply@darksociety.network
ATTENDEE;CN="Tyrgard";CUTYPE=INDIVIDUAL;PARTSTAT=ACCEPTED:no
	reply@darksociety.network
ATTENDEE;CN="edd6b8ae5bdad05c8908cd5e2fbfaba8";CUTYPE=INDIVI
	DUAL;PARTSTAT=ACCEPTED:noreply@darksociety.network
END:VEVENT
END:VCALENDAR
